BEGIN:VCALENDAR
VERSION:2.0
PRODID:-//DOS Group - ECPv6.15.7//NONSGML v1.0//EN
CALSCALE:GREGORIAN
METHOD:PUBLISH
X-ORIGINAL-URL:https://dos-group.com
X-WR-CALDESC:Eventi per DOS Group
REFRESH-INTERVAL;VALUE=DURATION:PT1H
X-Robots-Tag:noindex
X-PUBLISHED-TTL:PT1H
BEGIN:VTIMEZONE
TZID:UTC
BEGIN:STANDARD
TZOFFSETFROM:+0000
TZOFFSETTO:+0000
TZNAME:UTC
DTSTART:20240101T000000
END:STANDARD
END:VTIMEZONE
BEGIN:VEVENT
DTSTART;TZID=UTC:20251210T173000
DTEND;TZID=UTC:20251210T213000
DTSTAMP:20260424T081215
CREATED:20251014T073309Z
LAST-MODIFIED:20251014T073309Z
UID:251901-1765387800-1765402200@dos-group.com
SUMMARY:DOSChristmas
DESCRIPTION:Sarà un’occasione speciale per condividere un momento di auguri e convivialità\, accompagnato da un ottimo vin brulé e da una deliziosa raclette e per trascorrere del tempo insieme in un’atmosfera calda e informale.\n			\n			\n				\n				\n				\n				\n			\n				\n				\n				\n				\n				\n				\n				ISCRIVITI
URL:https://dos-group.com/event/doschristmas/
LOCATION:DOS Group SA\, Via Rime 38\, Mendrisio\, 6850\, Svizzera
CATEGORIES:Evento
END:VEVENT
END:VCALENDAR