BEGIN:VCALENDAR
VERSION:2.0
PRODID:-//DOS Group - ECPv6.15.7//NONSGML v1.0//EN
CALSCALE:GREGORIAN
METHOD:PUBLISH
X-ORIGINAL-URL:https://dos-group.com
X-WR-CALDESC:Eventi per DOS Group
REFRESH-INTERVAL;VALUE=DURATION:PT1H
X-Robots-Tag:noindex
X-PUBLISHED-TTL:PT1H
BEGIN:VTIMEZONE
TZID:UTC
BEGIN:STANDARD
TZOFFSETFROM:+0000
TZOFFSETTO:+0000
TZNAME:UTC
DTSTART:20240101T000000
END:STANDARD
END:VTIMEZONE
BEGIN:VEVENT
DTSTART;TZID=UTC:20250620T133000
DTEND;TZID=UTC:20250620T140000
DTSTAMP:20260423T191854
CREATED:20250521T151122Z
LAST-MODIFIED:20250611T140102Z
UID:251124-1750426200-1750428000@dos-group.com
SUMMARY:DOS CONNECT # Il salotto dell'innovazione Fency
DESCRIPTION:Fency:\n			\n				\n				\n				\n				\n				il tuo alleato digitale quotidiano \n			\n				\n				\n				\n				\n				20 giugno 2025 \n			\n				\n				\n				\n				\n				Ore 13.30 \n			\n				\n				\n				\n				\n				Fency è la soluzione che unisce protezione\, formazione e simulazione per affrontare le minacce informatiche in continua evoluzione. Protegge gli utenti in tempo reale e allo stesso tempo ne accresce la consapevolezza attraverso percorsi educativi mirati e simulazioni realistiche. Scopriamo come funziona e perché può fare la differenza per la tua azienda insieme a Riccardo Brigatti\, Founder di TeamFence.\n\n			\n			\n				\n				\n				\n				\n			\n				\n				\n			\n				\n				\n				\n				\n				\n				\n				\n				\n				\n				\n				\n				\n				\n			\n				\n				\n				\n				\n			\n				\n				\n				\n				\n				\n				\n				\n				\n				\n				\n				\n				\n					Riccardo Brigatti\n					\n					Da oltre 6 anni\, Riccardo opera nell’offensive security\, il settore che replica le tattiche dei cyber criminali per prevenirne le minacce. Dall’esercito svizzero alle multinazionali\, ha affrontato sfide\, ottenuto certificazioni e rafforzato la sicurezza aziendale. Con esperienza\, passione e un gruppo di professionisti al suo pari ed imprenditori fonda TeamFence per sviluppare soluzioni concrete volte alla protezione dei collaboratori e delle imprese. \n					\n				\n			\n				\n				\n				\n				\n				\n			\n				\n				\n				\n				\n				\n			\n				\n				\n				\n				\n				Segui\n			\n			\n				\n				\n				\n				\n			\n				\n				\n			\n				\n				\n				\n				\n				\n				\n				\n				\n				\n				\n				\n				\n				\n			\n				\n				\n				\n				\n			\n				\n				\n				\n				\n				\n				\n				\n				\n				\n				\n				\n					\n					\n						Fency: Cos'è? Quali sono le sue funzionalità?\n						Riccardo ci mostrerà questa soluzione: semplice ma allo stesso tempo efficace. \n					\n				\n			\n			\n				\n				\n				\n				\n				\n				\n				\n				\n				\n				\n					\n					\n						L'importanza della formazione e del supporto\n						Quanto è importante una buona formazione agli utenti e un supporto continuo. \n					\n				\n			\n			\n				\n				\n				\n				\n				\n				\n				\n				\n				\n				\n					\n					\n						Riesci ad analizzare un URL e capire se è malevolo?\n						Capiamo insieme a Riccardo come riconoscere un URL che puo’ essere malevolo. \n					\n				\n			\n			\n				\n				\n				\n				\n			\n				\n				\n			\n				\n				\n				\n				\n				\n				\n				\n				\n				\n				\n				\n				\n				\n				\n				\n				\n				\n				Conferma la Tua Partecipazione\n			\n				\n				\n				\n				\n				Non perdere l’opportunità di partecipare al nostro webinar esclusivo. Registrati ora per assicurarti un posto!\n			\n				Iscriviti ora \n			\n			\n				\n				\n				\n				\n			\n				\n				\n			\n				\n				\n				\n				\n				\n				\n				\n				\n				\n				\n				\n				\n				\n			\n				\n				\n				\n				\n			\n				\n				\n			\n				\n				\n				\n				\n				\n				\n				\n				\n				\n				\n				\n				\n				\n				\n				\n				\n				\n				PROSSIMO PODCAST\n			\n				\n				\n				\n				\n				Non perdere l’occasione di unirti a noi nel prossimo podcast “DOS CONNECT”! Automazione\, analisi e innovazione a portata di mano insieme a Gabriele Petino (Founder e Director di Open-X Sagl). Registrati subito per assicurarti un posto e lasciati ispirare dai progetti innovativi che verranno presentati.
URL:https://dos-group.com/event/dos-connect-il-salotto-dellinnovazione-fency/
CATEGORIES:Podcast,Webinar
END:VEVENT
BEGIN:VEVENT
DTSTART;TZID=UTC:20250625T180000
DTEND;TZID=UTC:20250625T220000
DTSTAMP:20260423T191854
CREATED:20250410T123637Z
LAST-MODIFIED:20250425T121449Z
UID:250874-1750874400-1750888800@dos-group.com
SUMMARY:DOS SUMMER PARTY
DESCRIPTION:Unisciti a noi per una serata indimenticabile di connessioni\, divertimento e gratitudine. Incontrerai i nostri partner e potrai godere di vantaggi esclusivi in un’atmosfera unica. \nBuona musica\, mood informale e la piacevole brezza del lago ti accompagneranno tutta la serata. \nTi aspettiamo a bordo dell’esclusivo Battello Italia sul lago di Lugano per brindare insieme all’estate… e a un futuro ancora più bello da vivere insieme. \n			\n			\n				\n				\n				\n				\n			\n				\n				\n			\n				\n				\n				\n				\n				\n				\n				\n				\n				\n				\n				\n				\n				\n				\n				\n				\n				\n				\n					\n					\n						Musica dal Vivo\n						Lasciati coinvolgere dalle note di artisti d’eccezione che animeranno la serata. \n					\n				\n			\n			\n				\n				\n				\n				\n				\n				\n				\n				\n				\n				\n					\n					\n						Atmosfera Informale\n						Rilassati e goditi la serata in un ambiente accogliente e amichevole. \n					\n				\n			\n			\n				\n				\n				\n				\n				\n				\n				\n				\n				\n				\n					\n					\n						Vantaggi Esclusivi\n						Approfitta di offerte speciali riservate ai partecipanti dell’evento. \n					\n				\n			\n			\n				\n				\n				\n				\n				\n				\n				\n				\n				\n				\n					\n					\n						Esperienze Uniche\n						Vivi momenti indimenticabili in una location esclusiva. \n					\n				\n			\n			\n				\n				\n				\n				\n			\n				\n				\n			\n				\n				\n				\n				\n				\n				\n				\n				\n				\n				\n				\n				\n				\n				\n				\n				\n				\n				Conferma la Tua Partecipazione\n			\n				\n				\n				\n				\n				Non perdere l’occasione di unirti a noi per il DOS Summer Party. Conferma la tua presenza per il 25 giugno sul battello Italia\, Lago di Lugano.\n			\n				ISCRIVITI
URL:https://dos-group.com/event/dos-summer-party/
CATEGORIES:Evento
END:VEVENT
END:VCALENDAR