BEGIN:VCALENDAR
VERSION:2.0
PRODID:-//DOS Group - ECPv6.15.7//NONSGML v1.0//EN
CALSCALE:GREGORIAN
METHOD:PUBLISH
X-ORIGINAL-URL:https://dos-group.com
X-WR-CALDESC:Eventi per DOS Group
REFRESH-INTERVAL;VALUE=DURATION:PT1H
X-Robots-Tag:noindex
X-PUBLISHED-TTL:PT1H
BEGIN:VTIMEZONE
TZID:UTC
BEGIN:STANDARD
TZOFFSETFROM:+0000
TZOFFSETTO:+0000
TZNAME:UTC
DTSTART:20240101T000000
END:STANDARD
END:VTIMEZONE
BEGIN:VEVENT
DTSTART;TZID=UTC:20250328T133000
DTEND;TZID=UTC:20250328T140000
DTSTAMP:20260423T122806
CREATED:20241223T163531Z
LAST-MODIFIED:20250224T100046Z
UID:250215-1743168600-1743170400@dos-group.com
SUMMARY:DOS CONNECT # Il salotto dell'innovazione Cyber Security
DESCRIPTION:Oltre le parole:\n			\n				\n				\n				\n				\n				rendiamo concreta la  Cyber Security\n			\n				\n				\n				\n				\n				28 marzo 2024 \n			\n				\n				\n				\n				\n				Ore 13.30 \n			\n				\n				\n				\n				\n				Soluzioni pratiche per proteggere dati\, sistemi e persone con l’aiuto di Riccardo Brigatti\, Founder di TeamFence.\n\n			\n			\n				\n				\n				\n				\n			\n				\n				\n			\n				\n				\n				\n				\n				\n				\n				\n				\n				\n				\n				\n				\n				\n			\n				\n				\n				\n				\n			\n				\n				\n				\n				\n				\n				\n				\n				\n				\n				\n				\n				\n					Riccardo Brigatti\n					\n					Da oltre 6 anni\, Riccardo opera nell’offensive security\, il settore che replica le tattiche dei cyber criminali per prevenirne le minacce. Dall’esercito svizzero alle multinazionali\, ha affrontato sfide\, ottenuto certificazioni e rafforzato la sicurezza aziendale. Con esperienza\, passione e un gruppo di professionisti al suo pari ed imprenditori fonda TeamFence per sviluppare soluzioni concrete volte alla protezione dei collaboratori e delle imprese. \n					\n				\n			\n				\n				\n				\n				\n				\n			\n				\n				\n				\n				\n				\n			\n				\n				\n				\n				\n				Segui\n			\n			\n				\n				\n				\n				\n			\n				\n				\n			\n				\n				\n				\n				\n				\n				\n				\n				\n				\n				\n				\n				\n				\n			\n				\n				\n				\n				\n			\n				\n				\n				\n				\n				\n				\n				\n				\n				\n				\n				\n					\n					\n						L'importanza delle competenze nel settore della sicurezza\n						Perché le giuste competenze oggi fanno davvero la differenza nel mondo della Cyber Security? \n					\n				\n			\n			\n				\n				\n				\n				\n				\n				\n				\n				\n				\n				\n					\n					\n						Minacce emergenti: le nuove sfide della cybersecurity e come affrontarle\n						La consapevolezza degli utenti verso una navigazione online sempre piu’ sicura e piu’ protetta. \n					\n				\n			\n			\n				\n				\n				\n				\n				\n				\n				\n				\n				\n				\n					\n					\n						Strategie efficaci\, soluzioni pratiche e supporto continuativo\n						Protezione proattiva: metodi collaudati\, strumenti utili e assistenza costante per una sicurezza solida. \n					\n				\n			\n			\n				\n				\n				\n				\n			\n				\n				\n			\n				\n				\n				\n				\n				\n				\n				\n				\n				\n				\n				\n				\n				\n				\n				\n				\n				\n				Conferma la Tua Partecipazione\n			\n				\n				\n				\n				\n				Non perdere l’opportunità di partecipare al nostro webinar esclusivo. Registrati ora per assicurarti un posto!\n			\n				Iscriviti ora \n			\n			\n				\n				\n				\n				\n			\n				\n				\n			\n				\n				\n				\n				\n				\n				\n				\n				\n				\n				\n				\n				\n				\n			\n				\n				\n				\n				\n			\n				\n				\n			\n				\n				\n				\n				\n				\n				\n				\n				\n				\n				\n				\n				\n				\n				\n				\n				\n				\n				PROSSIMO PODCAST\n			\n				\n				\n				\n				\n				Non perdere l’occasione di unirti a noi nel prossimo podcast “DOS CONNECT”! Scopri come sfruttare l’Intelligenza Artificiale per crescere e proteggere il tuo business insieme a Gabriele Petino\, fondatore di Open-X. Registrati subito per assicurarti un posto e lasciati ispirare dai progetti innovativi che verranno presentati.
URL:https://dos-group.com/event/dos-connect-il-salotto-dellinnovazione-cyber-security/
CATEGORIES:Podcast,Webinar
END:VEVENT
END:VCALENDAR