BEGIN:VCALENDAR
VERSION:2.0
PRODID:-//DOS Group - ECPv6.15.7//NONSGML v1.0//EN
CALSCALE:GREGORIAN
METHOD:PUBLISH
X-ORIGINAL-URL:https://dos-group.com
X-WR-CALDESC:Eventi per DOS Group
REFRESH-INTERVAL;VALUE=DURATION:PT1H
X-Robots-Tag:noindex
X-PUBLISHED-TTL:PT1H
BEGIN:VTIMEZONE
TZID:UTC
BEGIN:STANDARD
TZOFFSETFROM:+0000
TZOFFSETTO:+0000
TZNAME:UTC
DTSTART:20240101T000000
END:STANDARD
END:VTIMEZONE
BEGIN:VEVENT
DTSTART;TZID=UTC:20250515T093000
DTEND;TZID=UTC:20250515T223000
DTSTAMP:20260423T191857
CREATED:20250409T151720Z
LAST-MODIFIED:20250519T131231Z
UID:250899-1747301400-1747348200@dos-group.com
SUMMARY:Oltre la formazione: come proteggere davvero gli utenti in un mondo di minacce in continua evoluzione
DESCRIPTION:Oltre la formazione\n			\n				\n				\n				\n				\n				costruire un ambiente digitale piu' sicuro\n			\n			\n				\n				\n				\n				\n			\n				\n				\n			\n				\n				\n				\n				\n				\n				\n				\n				\n				\n				\n				\n				\n				\n				\n				\n				\n				\n				Nel panorama digitale attuale\, dove le minacce si evolvono molto rapidamente\, la sola formazione non basta.  \nAnche il dipendente più attento non può diventare un esperto di sicurezza informatica. Per questo serve un nuovo approccio: combinare formazione continua\, supporto in tempo reale e tecnologie proattive di protezione. \nDurante questo webinar presenteremo BrowserFence\, la soluzione di TeamFence pensata per potenziare la consapevolezza e il comportamento degli utenti\, intervenendo proprio nel momento in cui serve: mentre navigano\, cliccano\, lavorano. \nUn modo concreto per aumentare la resilienza dell’organizzazione e ridurre i rischi reali\, ogni giorno. \n			\n			\n				\n				\n				\n				\n				\n				\n				\n				\n				\n				WEBINAR \nGiovedi’ 15 maggio \n9:30 – 10:15 \n			\n			\n				\n				\n				\n				\n			\n				\n				\n				\n				\n				\n				\n				\n				\n				\n				\n				Quali temi affronteremo?\n\nLa preziosa collaborazione tra DOS Group e TeamFence\nL’importanza di un supporto continuativo\nBrowserFence: il tuo alleato digitale quotidiano che tiene al sicuro i tuoi collaboratori\nQ&A\n\n			\n				\n				\n				\n				\n				\n			\n			\n				\n				\n				\n				\n				\n			\n				\n				\n				\n				\n			\n				\n				\n				\n				\n				\n				\n				\n				\n				\n				\n				Relatori\n			\n			\n				\n				\n				\n				\n			\n				\n				\n				\n				\n				\n				\n				\n				\n				\n				\n				\n			\n				\n				\n				\n				\n				Gianluca RizzardiHead of ICT DOS Group SA \n			\n			\n				\n				\n				\n				\n				\n				\n				\n				\n				\n				\n			\n				\n				\n				\n				\n				Riccardo BrigattiFounder di TeamFence \n			\n			\n				\n				\n				\n				\n			\n				\n				\n				\n				\n				\n				\n				VISUALIZZA IL WEBINAR
URL:https://dos-group.com/event/oltre-la-formazione-come-proteggere-davvero-gli-utenti-in-un-mondo-di-minacce-in-continua-evoluzione/
CATEGORIES:Webinar
END:VEVENT
END:VCALENDAR