BEGIN:VCALENDAR
VERSION:2.0
PRODID:-//DOS Group - ECPv6.15.7//NONSGML v1.0//EN
CALSCALE:GREGORIAN
METHOD:PUBLISH
X-ORIGINAL-URL:https://dos-group.com
X-WR-CALDESC:Eventi per DOS Group
REFRESH-INTERVAL;VALUE=DURATION:PT1H
X-Robots-Tag:noindex
X-PUBLISHED-TTL:PT1H
BEGIN:VTIMEZONE
TZID:UTC
BEGIN:STANDARD
TZOFFSETFROM:+0000
TZOFFSETTO:+0000
TZNAME:UTC
DTSTART:20240101T000000
END:STANDARD
END:VTIMEZONE
BEGIN:VEVENT
DTSTART;TZID=UTC:20250418T130000
DTEND;TZID=UTC:20250418T133000
DTSTAMP:20260423T174301
CREATED:20241223T161602Z
LAST-MODIFIED:20250626T121644Z
UID:250220-1744981200-1744983000@dos-group.com
SUMMARY:DOS CONNECT # Il salotto dell'innovazione Copilot in azione
DESCRIPTION:Copilot in azione:\n			\n				\n				\n				\n				\n				innovare in sicurezza\n			\n				\n				\n				\n				\n				18 aprile 2025 \n			\n				\n				\n				\n				\n				Ore 13.30 \n			\n				\n				\n				\n				\n				Sfruttare l’Intelligenza Artificiale per crescere e proteggere il tuo business!Ci chiarisce il tema Gabriele Petino.  \n			\n				Compila il form d'iscrizione\n			\n			\n				\n				\n				\n				\n			\n				\n				\n			\n				\n				\n				\n				\n				\n				\n				\n				\n				\n				\n				\n				\n				\n				\n				\n				\n				\n				Interlocutore\n			\n			\n				\n				\n				\n				\n			\n				\n				\n				\n				\n				\n				\n				\n				\n				\n				\n				\n				\n					Gabriele Petino\n					\n					Gabriele si occupa da oltre 25 anni di consulenza e formazione in Svizzera\, in Italia e all’estero. Aiuta professionisti e aziende a crescere in maniera esponenziale utilizzando strumenti e tecnologie di collaborazione cloud potenziate dall’intelligenza artificiale.  È anche un giornalista iscritto all’Ordine dei Giornalisti della Lombardia\, e nel 2022 ha pubblicato il suo libro “Intelligenza Artificiale per tutti”. \n					\n				\n			\n				\n				\n				\n				\n				\n			\n				\n				\n				\n				\n				\n			\n				\n				\n				\n				\n				Segui\n			\n			\n				\n				\n				\n				\n			\n				\n				\n			\n				\n				\n				\n				\n				\n				\n				\n				\n				\n				\n				\n				\n				\n			\n				\n				\n				\n				\n			\n				\n				\n				\n				\n				\n				\n				\n				\n				\n				\n				\n					\n					\n						Microsoft Security Copilot\n						Quali sono le sue funzionalità e i vantaggi principali? \n					\n				\n			\n			\n				\n				\n				\n				\n				\n				\n				\n				\n				\n				\n					\n					\n						Sicurezza e conformità\n						Utilizzare l’AI per mantenere la conformità alle normative di sicurezza. \n					\n				\n			\n			\n				\n				\n				\n				\n				\n				\n				\n				\n				\n				\n					\n					\n						Automazione e analisi predittiva\n						Utilizzare l’automazione per riconoscere comportamenti anomali e attivare risposte immediate. \n					\n				\n			\n			\n				\n				\n				\n				\n			\n				\n				\n			\n				\n				\n				\n				\n				\n				\n				\n				\n				\n				\n				\n				\n				\n				\n				\n				\n				\n				Conferma la Tua Partecipazione\n			\n				\n				\n				\n				\n				Non perdere l’opportunità di partecipare al nostro webinar esclusivo. Registrati ora per assicurarti un posto!\n			\n				Iscriviti ora \n			\n			\n				\n				\n				\n				\n			\n				\n				\n			\n				\n				\n				\n				\n				\n				\n				\n				\n				\n				\n				\n				\n				\n			\n				\n				\n				\n				\n			\n				\n				\n			\n				\n				\n				\n				\n				\n				\n				\n				\n				\n				\n				\n				\n				\n				\n				\n				\n				\n				PROSSIMO PODCAST\n			\n				\n				\n				\n				\n				Non perdere l’occasione di unirti a noi per il prossimo podcast di DOS CONNECT! Automazione\, analisi e innovazione a portata di mano insieme a Gabriele Petino (Founder e Director di Open-X Sagl). Registrati subito per assicurarti un posto e lasciati ispirare dai progetti innovativi che verranno presentati.
URL:https://dos-group.com/event/dos-connect-il-salotto-dellinnovazione-copilot-in-azione/
CATEGORIES:Podcast,Webinar
END:VEVENT
END:VCALENDAR