BEGIN:VCALENDAR
VERSION:2.0
PRODID:-//DOS Group - ECPv6.15.7//NONSGML v1.0//EN
CALSCALE:GREGORIAN
METHOD:PUBLISH
X-WR-CALNAME:DOS Group
X-ORIGINAL-URL:https://dos-group.com
X-WR-CALDESC:Eventi per DOS Group
REFRESH-INTERVAL;VALUE=DURATION:PT1H
X-Robots-Tag:noindex
X-PUBLISHED-TTL:PT1H
BEGIN:VTIMEZONE
TZID:UTC
BEGIN:STANDARD
TZOFFSETFROM:+0000
TZOFFSETTO:+0000
TZNAME:UTC
DTSTART:20240101T000000
END:STANDARD
END:VTIMEZONE
BEGIN:VEVENT
DTSTART;TZID=UTC:20250403T080000
DTEND;TZID=UTC:20250403T103000
DTSTAMP:20260423T141140
CREATED:20250228T102013Z
LAST-MODIFIED:20250305T100440Z
UID:250674-1743667200-1743676200@dos-group.com
SUMMARY:Sfida digitale: proteggi il tuo futuro con la formazione e la sicurezza?
DESCRIPTION:Dettagli dell'Evento\n			\n				\n				\n				\n				\n				In un mondo digitale sempre più esposto a minacce informatiche\, proteggere la propria azienda non significa solo adottare tecnologie avanzate\, ma anche garantire una copertura totale contro eventuali errori umani e processi critici. \n			\n			\n				\n				\n				\n				\n				\n				\n				\n				\n				\n				Data\n			\n				\n				\n				\n				\n				3 aprile 2025 \n			\n				\n				\n				\n				\n				Orario\n			\n				\n				\n				\n				\n				8:00 – 10:30 \n			\n				\n				\n				\n				\n				Luogo\n			\n				\n				\n				\n				\n				Via Rime 38\, 6850 Mendrisio \n			\n			\n				\n				\n				\n				\n			\n				\n				\n			\n				\n				\n				\n				\n				\n				\n				\n				\n				\n				\n				\n				\n				\n				\n				\n				\n				\n				Agenda dell'Evento\n			\n			\n				\n				\n				\n				\n			\n				\n				\n				\n				\n				\n				\n				\n				\n				\n				\n				Benvenuto\n			\n				\n				\n				\n				\n				Registrazione e accoglienza partecipanti \n			\n			\n				\n				\n				\n				\n				\n				\n				\n				\n				\n				ora 8:00\n			\n			\n				\n				\n				\n				\n			\n				\n				\n				\n				\n				\n				\n				\n				\n				\n				\n				Introduzione\n			\n				\n				\n				\n				\n				Presentazione dell’evento \n			\n			\n				\n				\n				\n				\n				\n				\n				\n				\n				\n				ora 8:35\n			\n			\n				\n				\n				\n				\n			\n				\n				\n				\n				\n				\n				\n				\n				\n				\n				\n				Presentazione\n			\n				\n				\n				\n				\n				Silvia Tosetti (Branch Director- Adecco Ticino Permanent)Lavoro e digitalizzazione – le sfide di un mercato del lavoro in profondo cambiamento \n			\n				\n				\n				\n				\n				Gianluca Rizzardi (Head of ICT DOS Group SA)Dalla prevenzione alla risoluzione: l’importanza di un supporto continuativo \n			\n				\n				\n				\n				\n				Riccardo Brigatti (Founder TeamFence Sagl)La formazione come scudo contro le minacce \n			\n				\n				\n				\n				\n				Aaron Cetrangolo (Senior Underwriter Financial lines\, Cyber Risk e Patrimoniali Zurich)Tutela del rischio – prevenire per proteggere \n			\n				\n				\n				\n				\n				Moderatore: Stefano Esposito (Responsabile vendite Zurich) \n			\n			\n				\n				\n				\n				\n				\n				\n				\n				\n				\n				ora 8:45\n			\n			\n				\n				\n				\n				\n			\n				\n				\n				\n				\n				\n				\n				\n				\n				\n				\n				Tavola rotonda\n			\n				\n				\n				\n				\n				Q&A\, approfondimento e discussione \n			\n			\n				\n				\n				\n				\n				\n				\n				\n				\n				\n				ora 9:45\n			\n			\n				\n				\n				\n				\n			\n				\n				\n				\n				\n				\n				\n				\n				\n				\n				\n				Networking\n			\n				\n				\n				\n				\n				Opportunità per conoscere altri professionisti e scambiare idee \n			\n			\n				\n				\n				\n				\n				\n				\n				\n				\n				\n				ora 10:00\n			\n			\n				\n				\n				\n				\n			\n				\n				\n			\n				\n				\n				\n				\n				\n				\n				\n				\n				\n				\n				\n				\n				\n				\n				\n				\n				\n				\n			\n			\n				\n				\n				\n				\n				\n				\n				\n				\n				\n				\n			\n			\n				\n				\n				\n				\n				\n				\n				\n				\n				\n				\n			\n			\n				\n				\n				\n				\n				\n				\n				\n				\n				\n				\n			\n			\n				\n				\n				\n				\n			\n				\n				\n			\n				\n				\n				\n				\n				\n				\n				\n				\n				\n				\n				\n				\n				\n				\n				\n				\n				\n				Iscriviti Ora\n			\n				\n				\n				\n				\n				Registrati oggi stesso per partecipare al nostro evento esclusivo e acquisisci competenze essenziali per la sicurezza digitale. \n			\n				Registrati Ora
URL:https://dos-group.com/event/sfida-digitale-stai-proteggendo-il-tuo-futuro-con-la-formazione-e-la-sicurezza/
LOCATION:DOS Group SA\, Via Rime 38\, Mendrisio\, 6850\, Svizzera
END:VEVENT
END:VCALENDAR