BEGIN:VCALENDAR
VERSION:2.0
PRODID:-//DOS Group - ECPv6.15.7//NONSGML v1.0//EN
CALSCALE:GREGORIAN
METHOD:PUBLISH
X-ORIGINAL-URL:https://dos-group.com
X-WR-CALDESC:Eventi per DOS Group
REFRESH-INTERVAL;VALUE=DURATION:PT1H
X-Robots-Tag:noindex
X-PUBLISHED-TTL:PT1H
BEGIN:VTIMEZONE
TZID:UTC
BEGIN:STANDARD
TZOFFSETFROM:+0000
TZOFFSETTO:+0000
TZNAME:UTC
DTSTART:20240101T000000
END:STANDARD
END:VTIMEZONE
BEGIN:VEVENT
DTSTART;TZID=UTC:20250227T110000
DTEND;TZID=UTC:20250227T234500
DTSTAMP:20260423T122808
CREATED:20250219T134856Z
LAST-MODIFIED:20250224T100002Z
UID:250529-1740654000-1740699900@dos-group.com
SUMMARY:Navigazione online e supporto agli utenti
DESCRIPTION:Navigazione online e supporto agli utenti:\n			\n				\n				\n				\n				\n				costruire un ambiente digitale piu' sicuro\n			\n			\n				\n				\n				\n				\n			\n				\n				\n			\n				\n				\n				\n				\n				\n				\n				\n				\n				\n				\n				\n				\n				\n				\n				\n				\n				\n				Quanto è facile cliccare sul link sbagliato in una giornata frenetica? \nSai riconoscere un sito malevolo quando lo visiti? \nCredi di poter battere un hacker nella creazione di una trappola online? \n			\n				\n				\n				\n				\n				Questo webinar guida l’utente in un percorso formativo sui rischi del web\, evidenziando quanto questo ambiente sia oggi critico e strategico. Partiremo dall’analisi delle misure di sicurezza e supporto attuali\, evidenziandone i limiti\, per poi esplorare approcci innovativi e soluzioni più efficaci che offrono una nuova visione della sicurezza online. \n			\n			\n				\n				\n				\n				\n				\n				\n				\n				\n				\n				WEBINAR \nGiovedi’ 27 febbraio \n11:00 – 11:45 \n			\n			\n				\n				\n				\n				\n			\n				\n				\n				\n				\n				\n				\n				\n				\n				\n				\n				Quali temi affronteremo?\n\nla preziosa collaborazione tra DOS Group e TeamFence\nil lavoro d’ufficio sempre più orientato verso l’online e il cloud\ni rischi e le conseguenze che ne derivano. Siamo pienamente conformi?\nla consapevolezza degli utenti verso una navigazione piu’ sicura\nl’importanza di un supporto adeguato agli utenti\nQ&A\n\n			\n				\n				\n				\n				\n				\n			\n			\n				\n				\n				\n				\n				\n			\n				\n				\n				\n				\n			\n				\n				\n				\n				\n				\n				\n				\n				\n				\n				\n				Relatori\n			\n			\n				\n				\n				\n				\n			\n				\n				\n				\n				\n				\n				\n				\n				\n				\n				\n				\n			\n				\n				\n				\n				\n				Gianluca RizzardiHead of ICT DOS Group SA \n			\n			\n				\n				\n				\n				\n				\n				\n				\n				\n				\n				\n			\n				\n				\n				\n				\n				Riccardo BrigattiFounder di TeamFence \n			\n			\n				\n				\n				\n				\n			\n				\n				\n				\n				\n				\n				\n				ISCRIVITI
URL:https://dos-group.com/event/navigazione-online-e-supporto-agli-utenti/
CATEGORIES:Webinar
END:VEVENT
END:VCALENDAR