BEGIN:VCALENDAR
VERSION:2.0
PRODID:-//DOS Group - ECPv6.15.7//NONSGML v1.0//EN
CALSCALE:GREGORIAN
METHOD:PUBLISH
X-WR-CALNAME:DOS Group
X-ORIGINAL-URL:https://dos-group.com
X-WR-CALDESC:Eventi per DOS Group
REFRESH-INTERVAL;VALUE=DURATION:PT1H
X-Robots-Tag:noindex
X-PUBLISHED-TTL:PT1H
BEGIN:VTIMEZONE
TZID:UTC
BEGIN:STANDARD
TZOFFSETFROM:+0000
TZOFFSETTO:+0000
TZNAME:UTC
DTSTART:20240101T000000
END:STANDARD
END:VTIMEZONE
BEGIN:VEVENT
DTSTART;TZID=UTC:20250214T133000
DTEND;TZID=UTC:20250214T140000
DTSTAMP:20260423T122628
CREATED:20241223T133115Z
LAST-MODIFIED:20250331T145503Z
UID:250171-1739539800-1739541600@dos-group.com
SUMMARY:DOS CONNECT # Il salotto dell'innovazione Copilot e Prompt
DESCRIPTION:Copilot e Prompt:\n			\n				\n				\n				\n				\n				L'Arte di Dialogare con l'Intelligenza Artificiale\n			\n				\n				\n				\n				\n				14 Febbraio 2024 \n			\n				\n				\n				\n				\n				Ore 13.30 \n			\n				\n				\n				\n				\n				Cos’è un prompt e perché è così importante quando si utilizza Copilot? Ci chiarisce il tema Gabriele Petino.  \n			\n			\n				\n				\n				\n				\n			\n				\n				\n			\n				\n				\n				\n				\n				\n				\n				\n				\n				\n				\n				\n				\n				\n				\n				\n				\n				\n				\n				\n					Gabriele Petino\n					\n					Gabriele si occupa da oltre 25 anni di consulenza e formazione in Svizzera\, in Italia e all’estero. Aiuta professionisti e aziende a crescere in maniera esponenziale utilizzando strumenti e tecnologie di collaborazione cloud potenziate dall’intelligenza artificiale.  È anche un giornalista iscritto all’Ordine dei Giornalisti della Lombardia\, e nel 2022 ha pubblicato il suo libro “Intelligenza Artificiale per tutti”. \n					\n				\n			\n				\n				\n				\n				\n				\n			\n				\n				\n				\n				\n				\n			\n				\n				\n				\n				\n				Segui\n			\n			\n				\n				\n				\n				\n			\n				\n				\n			\n				\n				\n				\n				\n				\n				\n				\n				\n				\n				\n				\n				\n				\n			\n				\n				\n				\n				\n			\n				\n				\n				\n				\n				\n				\n				\n				\n				\n				\n				\n					\n					\n						Interazione con Copilot\n						Che cos’è Microsoft Copilot\, quali sono le sue principali caratteristiche e quali funzionalità offre?  \n					\n				\n			\n			\n				\n				\n				\n				\n				\n				\n				\n				\n				\n				\n					\n					\n						I prompt\n						Che cosa sono i prompt? in che modo vengono utilizzati? Qual’è il prompt ottimale? \n					\n				\n			\n			\n				\n				\n				\n				\n				\n				\n				\n				\n				\n				\n					\n					\n						Utilizzarli correttamente\n						Applichiamo quanto spiegato attraverso alcuni esempi pratici e concreti per rendere il concetto comprensibile e chiaro. \n					\n				\n			\n			\n				\n				\n				\n				\n			\n				\n				\n			\n				\n				\n				\n				\n				\n				\n				\n				\n				\n				\n				\n				\n				\n				\n				\n				\n				\n				Conferma la Tua Partecipazione\n			\n				\n				\n				\n				\n				Non perdere l’opportunità di partecipare al nostro webinar esclusivo. Registrati ora per assicurarti un posto!\n			\n				Iscriviti ora \n			\n			\n				\n				\n				\n				\n			\n				\n				\n			\n				\n				\n				\n				\n				\n				\n				\n				\n				\n			\n				\n				\n				\n				\n				\n				\n				\n				\n				\n				\n				\n				\n				\n				\n				\n				\n				\n				PROSSIMO PODCAST\n			\n				\n				\n				\n				\n				Non perdere l’occasione di unirti a noi nel prossimo podcast DOS CONNECT! Soluzioni pratiche per proteggere dati\, sistemi e persone con l’aiuto di Riccardo Brigatti (Founder di TeamFence). Registrati subito per assicurarti un posto e lasciati ispirare dai progetti innovativi che verranno presentati. \n			\n				Iscriviti
URL:https://dos-group.com/event/dos-connect-il-salotto-dellinnovazione-copilot-e-prompt/
CATEGORIES:Podcast,Webinar
END:VEVENT
END:VCALENDAR