BEGIN:VCALENDAR
VERSION:2.0
PRODID:-//DOS Group - ECPv6.15.7//NONSGML v1.0//EN
CALSCALE:GREGORIAN
METHOD:PUBLISH
X-ORIGINAL-URL:https://dos-group.com
X-WR-CALDESC:Eventi per DOS Group
REFRESH-INTERVAL;VALUE=DURATION:PT1H
X-Robots-Tag:noindex
X-PUBLISHED-TTL:PT1H
BEGIN:VTIMEZONE
TZID:UTC
BEGIN:STANDARD
TZOFFSETFROM:+0000
TZOFFSETTO:+0000
TZNAME:UTC
DTSTART:20240101T000000
END:STANDARD
END:VTIMEZONE
BEGIN:VEVENT
DTSTART;TZID=UTC:20250124T133000
DTEND;TZID=UTC:20250124T140000
DTSTAMP:20260423T104825
CREATED:20241223T100731Z
LAST-MODIFIED:20250221T111208Z
UID:250056-1737725400-1737727200@dos-group.com
SUMMARY:DOS CONNECT # Il salotto dell'innovazione
DESCRIPTION:Progetti e Propositi:\n			\n				\n				\n				\n				\n				Innovare il Futuro\n			\n				\n				\n				\n				\n				24 Gennaio 2024 \n			\n				\n				\n				\n				\n				Ore 13.30 \n			\n				\n				\n				\n				\n				Unisciti a noi per esplorare le prospettive del nuovo anno con Stefano Doninelli. \n			\n			\n				\n				\n				\n				\n			\n				\n				\n			\n				\n				\n				\n				\n				\n				\n				\n				\n				\n				\n				\n				\n				\n			\n				\n				\n				\n				\n			\n				\n				\n				\n				\n				\n				\n				\n				\n				\n				\n				\n				\n					Stefano Doninelli\n					\n					Head of Innovation e CDO Member of the Board di sureVIVEFounder\, Chairman & Innovation Manager presso DOS GroupBoard Member GoodCodeFounder di DOS Ventures Sagl e Investitore in startup tecnologicheMembro CdA AC2 \n					\n				\n			\n				\n				\n				\n				\n				SeguiSeguiSegui\n			\n			\n				\n				\n				\n				\n			\n				\n				\n			\n				\n				\n				\n				\n				\n				\n				\n				\n				\n				\n				\n				\n				\n			\n				\n				\n				\n				\n			\n				\n				\n				\n				\n				\n				\n				\n				\n				\n				\n				\n					\n					\n						Progetti Innovativi\n						Scopri i progetti all’avanguardia che DOS Group SA sta implementando per rivoluzionare il mercato. \n					\n				\n			\n			\n				\n				\n				\n				\n				\n				\n				\n				\n				\n				\n					\n					\n						Prospettive Future\n						Esploriamo le tendenze emergenti e le opportunità che il nuovo anno offre nel settore tecnologico. \n					\n				\n			\n			\n				\n				\n				\n				\n				\n				\n				\n				\n				\n				\n					\n					\n						Strategie di Crescita\n						Analizziamo le strategie di crescita per affrontare le sfide del mercato globale. \n					\n				\n			\n			\n				\n				\n				\n				\n			\n				\n				\n			\n				\n				\n				\n				\n				\n				\n				\n				\n				\n				\n				\n				\n				\n				\n				\n				\n				\n				Conferma la Tua Partecipazione\n			\n				\n				\n				\n				\n				Non perdere l’opportunità di partecipare al nostro webinar esclusivo. Registrati ora per assicurarti un posto!\n			\n				Iscriviti ora \n			\n			\n				\n				\n				\n				\n			\n				\n				\n			\n				\n				\n				\n				\n				\n				\n				\n				\n				\n				\n				\n				\n				\n				\n				\n				\n				\n				PROSSIMO PODCAST\n			\n				\n				\n				\n				\n				\n			\n				\n				\n				\n				\n				Non perdere l’occasione di unirti a noi al prossimo podcast “DOS CONNECT”! Scopri strategie\, strumenti e segreti per sfruttare al meglio l’AI con Gabriele Petino\, Founder di Open-X Sagl. Registrati subito per assicurarti un posto e lasciati ispirare dai progetti innovativi che verranno presentati.
URL:https://dos-group.com/event/dos-connect-il-salotto-dellinnovazione-progetti-e-propositi/
CATEGORIES:Podcast,Webinar
END:VEVENT
END:VCALENDAR